BEGIN:VCALENDAR
VERSION:2.0
PRODID:-//hacksw/handcal//NONSGML v1.0//EN
BEGIN:VEVENT
DTSTART:20260428T070000Z
DTEND:20260428T150000Z
LOCATION:CFA  \n6, Rue Nicolaus Mercator \n25000 BESANCON
ORGANIZER;CN=Animateur Réseau Alumni:MAILTO:fanny.adam.cfa@gmail.com
SUMMARY:Formation Sauveteur Secouriste du Travail - Maintien et actualisation des compétences
DESCRIPTION:Maintenir ses compétences. Rester prêt à agir. Profitez de cette formation pour une mise à jour des gestes et réflexes essentiels pour protéger ce qui compte le plus : vous et/ou vos...
URL:https://www.reseau-alumni-batimentcfa-bfc.com/fr/event/formation-sauveteur-secouriste-du-travail-maintien-et-actualisation-des-competences/2026/04/28/51
BEGIN:VALARM
TRIGGER:-P0DT1H0M0S
ACTION:DISPLAY
END:VALARM
END:VEVENT
END:VCALENDAR