BEGIN:VCALENDAR
VERSION:2.0
PRODID:-//hacksw/handcal//NONSGML v1.0//EN
BEGIN:VEVENT
DTSTART:20260504T070000Z
DTEND:20260504T150000Z
LOCATION:CFA  \n19, Rue des Carrières \n58180 MARZY
ORGANIZER;CN=Animateur Réseau Alumni:MAILTO:fanny.adam.cfa@gmail.com
SUMMARY:Formation Prévention des risques électriques - Non électricien - Pack Élémentaire- Recyclage
DESCRIPTION:Maintenir ses réflexes, c'est continuer à travailler près du courant en toute sécurité.Durée : 7h - 04 mai 2026Cette formation permet aux personnels non-électriciens habilités de maintenir et...
URL:https://www.reseau-alumni-batimentcfa-bfc.com/fr/event/formation-prevention-des-risques-electriques-non-electricien-pack-elementaire-recyclage/2026/05/04/52
BEGIN:VALARM
TRIGGER:-P0DT1H0M0S
ACTION:DISPLAY
END:VALARM
END:VEVENT
END:VCALENDAR