BEGIN:VCALENDAR
VERSION:2.0
PRODID:-//hacksw/handcal//NONSGML v1.0//EN
BEGIN:VEVENT
DTSTART:20260604T160000Z
DTEND:20260604T190000Z
LOCATION:Strike Bowl \n3, Route de Chalon \n71400 AUTUN
ORGANIZER;CN=Animateur Réseau Alumni:MAILTO:fanny.adam.cfa@gmail.com
SUMMARY::handshake: Afterwork Alumni : et si on se retrouvait ?
DESCRIPTION:🎳 Et si on se retrouvait… après le travail ?Le réseau Alumni Bâtiment CFA Bourgogne-Franche-Comté vous donne rendez-vous pour un moment convivial, professionnel et inspirant, 100% gratuit...
URL:https://www.reseau-alumni-batimentcfa-bfc.com/fr/event/-handshake-afterwork-alumni-et-si-on-se-retrouvait/2026/06/04/79
BEGIN:VALARM
TRIGGER:-P0DT1H0M0S
ACTION:DISPLAY
END:VALARM
END:VEVENT
END:VCALENDAR